1000.00000000000000
0.00000000000000
0.00000000000000
-1000.00000000000000
-2598500.00000000000000
10498500.00000000000000
