0.00892900000000
0.00000000000000
0.00000000000000
-0.00892900000000
-125.00182450000000
49.49973388000000
